BEGIN:VCALENDAR
VERSION:2.0
PRODID:-//Southdale Church of the Nazarene - ECPv6.15.13//NONSGML v1.0//EN
CALSCALE:GREGORIAN
METHOD:PUBLISH
X-ORIGINAL-URL:https://www.southdalenaz.com
X-WR-CALDESC:Events for Southdale Church of the Nazarene
REFRESH-INTERVAL;VALUE=DURATION:PT1H
X-Robots-Tag:noindex
X-PUBLISHED-TTL:PT1H
BEGIN:VTIMEZONE
TZID:America/Halifax
BEGIN:DAYLIGHT
TZOFFSETFROM:-0400
TZOFFSETTO:-0300
TZNAME:ADT
DTSTART:20240310T060000
END:DAYLIGHT
BEGIN:STANDARD
TZOFFSETFROM:-0300
TZOFFSETTO:-0400
TZNAME:AST
DTSTART:20241103T050000
END:STANDARD
BEGIN:DAYLIGHT
TZOFFSETFROM:-0400
TZOFFSETTO:-0300
TZNAME:ADT
DTSTART:20250309T060000
END:DAYLIGHT
BEGIN:STANDARD
TZOFFSETFROM:-0300
TZOFFSETTO:-0400
TZNAME:AST
DTSTART:20251102T050000
END:STANDARD
BEGIN:DAYLIGHT
TZOFFSETFROM:-0400
TZOFFSETTO:-0300
TZNAME:ADT
DTSTART:20260308T060000
END:DAYLIGHT
BEGIN:STANDARD
TZOFFSETFROM:-0300
TZOFFSETTO:-0400
TZNAME:AST
DTSTART:20261101T050000
END:STANDARD
END:VTIMEZONE
BEGIN:VEVENT
DTSTART;TZID=America/Halifax:20250907T003000
DTEND;TZID=America/Halifax:20250907T130000
DTSTAMP:20260423T122103
CREATED:20250823T213946Z
LAST-MODIFIED:20250823T213947Z
UID:2714-1757205000-1757250000@www.southdalenaz.com
SUMMARY:Friendship Sunday
DESCRIPTION:Good food. Good friends. Great God. \n\n\n\nBe our guest this Friendship Sunday🕥 10:30 AM Worship Service🍽 Carry-In Fellowship Meal to Follow
URL:https://www.southdalenaz.com/event/friendship-sunday/
END:VEVENT
END:VCALENDAR